BEGIN:VCALENDAR
VERSION:2.0
PRODID:-//UB-Event
TZID:Europe/Zurich
X-WR-TIMEZONE:Europe/Zurich
CALSCALE:GREGORIAN
BEGIN:VEVENT
SUMMARY:Naysayer & Risk It! – Euro-Tour 2026 Hardcore
UID:236070
DTSTART;TZID=Europe/Zurich;VALUE=DATE-TIME:20260510T210000
DTEND;TZID=Europe/Zurich;VALUE=DATE-TIME:20260510T230000
LAST-MODIFIED;TZID=Europe/Zurich;VALUE=DATE-TIME:20260410T063837
DTSTAMP;VALUE=DATE-TIME:20260510T210000Z
LOCATION:Venster99, Bögen 99-100, 1150 Wien
URL://www.xn--untergrund-blttle-2qb.ch/events/236070/naysayer-risk-it-euro-tour-2026-hardcore-venster99-wien.html
END:VEVENT
BEGIN:VTIMEZONE
TZID:Europe/Zurich
X-LIC-LOCATION:Europe/Zurich
BEGIN:STANDARD
DTSTART;VALUE=DATE-TIME:20260510T210000
TZNAME:CET
TZOFFSETFROM:+0200
TZOFFSETTO:+0100
END:STANDARD
BEGIN:DAYLIGHT
DTSTART;VALUE=DATE-TIME:20260510T210000
TZNAME:CEST
TZOFFSETFROM:+0100
TZOFFSETTO:+0200
END:DAYLIGHT
BEGIN:STANDARD
DTSTART;VALUE=DATE-TIME:20260510T210000
TZNAME:CET
TZOFFSETFROM:+0200
TZOFFSETTO:+0100
END:STANDARD
END:VTIMEZONE
END:VCALENDAR