BEGIN:VCALENDAR
VERSION:2.0
PRODID:-//UB-Event
TZID:Europe/Zurich
X-WR-TIMEZONE:Europe/Zurich
CALSCALE:GREGORIAN
BEGIN:VEVENT
SUMMARY:Kino für Alle – Sold City Film – ENTEIGNUNG STATT MIETE FÜR DIE RENDITE
UID:236056
DTSTART;TZID=Europe/Zurich;VALUE=DATE-TIME:20260429T183000
DTEND;TZID=Europe/Zurich;VALUE=DATE-TIME:20260429T203000
LAST-MODIFIED;TZID=Europe/Zurich;VALUE=DATE-TIME:20260411T062022
DTSTAMP;VALUE=DATE-TIME:20260429T183000Z
LOCATION:Meuterei, Zollschuppenstraße 1, 04229 Leipzig
URL://www.xn--untergrund-blttle-2qb.ch/events/236056/kino-fuer-alle-sold-city-film-enteignung-statt-miete-fuer-die-rendite-meuterei-leipzig.html
END:VEVENT
BEGIN:VTIMEZONE
TZID:Europe/Zurich
X-LIC-LOCATION:Europe/Zurich
BEGIN:STANDARD
DTSTART;VALUE=DATE-TIME:20260429T183000
TZNAME:CET
TZOFFSETFROM:+0200
TZOFFSETTO:+0100
END:STANDARD
BEGIN:DAYLIGHT
DTSTART;VALUE=DATE-TIME:20260429T183000
TZNAME:CEST
TZOFFSETFROM:+0100
TZOFFSETTO:+0200
END:DAYLIGHT
BEGIN:STANDARD
DTSTART;VALUE=DATE-TIME:20260429T183000
TZNAME:CET
TZOFFSETFROM:+0200
TZOFFSETTO:+0100
END:STANDARD
END:VTIMEZONE
END:VCALENDAR