BEGIN:VCALENDAR
VERSION:2.0
PRODID:-//UB-Event
TZID:Europe/Zurich
X-WR-TIMEZONE:Europe/Zurich
CALSCALE:GREGORIAN
BEGIN:VEVENT
SUMMARY:Sonntagsspaziergang in der Grünen Lunge
UID:236048
DTSTART;TZID=Europe/Zurich;VALUE=DATE-TIME:20260426T150000
DTEND;TZID=Europe/Zurich;VALUE=DATE-TIME:20260426T170000
LAST-MODIFIED;TZID=Europe/Zurich;VALUE=DATE-TIME:20260411T061133
DTSTAMP;VALUE=DATE-TIME:20260426T150000Z
LOCATION:Parkplatz Abenteuerspielplatz, Raimundstraße, 60320 Frankfurt am Main
URL://www.xn--untergrund-blttle-2qb.ch/events/236048/sonntagsspaziergang-in-der-gruenen-lunge-parkplatz-abenteuerspielplatz-frankfurt-am-main.html
END:VEVENT
BEGIN:VTIMEZONE
TZID:Europe/Zurich
X-LIC-LOCATION:Europe/Zurich
BEGIN:STANDARD
DTSTART;VALUE=DATE-TIME:20260426T150000
TZNAME:CET
TZOFFSETFROM:+0200
TZOFFSETTO:+0100
END:STANDARD
BEGIN:DAYLIGHT
DTSTART;VALUE=DATE-TIME:20260426T150000
TZNAME:CEST
TZOFFSETFROM:+0100
TZOFFSETTO:+0200
END:DAYLIGHT
BEGIN:STANDARD
DTSTART;VALUE=DATE-TIME:20260426T150000
TZNAME:CET
TZOFFSETFROM:+0200
TZOFFSETTO:+0100
END:STANDARD
END:VTIMEZONE
END:VCALENDAR