BEGIN:VCALENDAR
VERSION:2.0
PRODID:-//UB-Event
TZID:Europe/Zurich
X-WR-TIMEZONE:Europe/Zurich
CALSCALE:GREGORIAN
BEGIN:VEVENT
SUMMARY:Slam Dunk Switzerland 2026
UID:236043
DTSTART;TZID=Europe/Zurich;VALUE=DATE-TIME:20260531T140000
DTEND;TZID=Europe/Zurich;VALUE=DATE-TIME:20260531T160000
LAST-MODIFIED;TZID=Europe/Zurich;VALUE=DATE-TIME:20260411T060326
DTSTAMP;VALUE=DATE-TIME:20260531T140000Z
LOCATION:Dynamo (Saal), Wasserwerkstrasse 21, 8006 Zürich
URL://www.xn--untergrund-blttle-2qb.ch/events/236043/slam-dunk-switzerland-2026-dynamo-saal-zuerich.html
END:VEVENT
BEGIN:VTIMEZONE
TZID:Europe/Zurich
X-LIC-LOCATION:Europe/Zurich
BEGIN:STANDARD
DTSTART;VALUE=DATE-TIME:20260531T140000
TZNAME:CET
TZOFFSETFROM:+0200
TZOFFSETTO:+0100
END:STANDARD
BEGIN:DAYLIGHT
DTSTART;VALUE=DATE-TIME:20260531T140000
TZNAME:CEST
TZOFFSETFROM:+0100
TZOFFSETTO:+0200
END:DAYLIGHT
BEGIN:STANDARD
DTSTART;VALUE=DATE-TIME:20260531T140000
TZNAME:CET
TZOFFSETFROM:+0200
TZOFFSETTO:+0100
END:STANDARD
END:VTIMEZONE
END:VCALENDAR