BEGIN:VCALENDAR
VERSION:2.0
PRODID:-//UB-Event
TZID:Europe/Zurich
X-WR-TIMEZONE:Europe/Zurich
CALSCALE:GREGORIAN
BEGIN:VEVENT
SUMMARY:Gaëlle Bélem | „Die seltenste Frucht“ – Lesung
UID:236033
DTSTART;TZID=Europe/Zurich;VALUE=DATE-TIME:20260427T180000
DTEND;TZID=Europe/Zurich;VALUE=DATE-TIME:20260427T200000
LAST-MODIFIED;TZID=Europe/Zurich;VALUE=DATE-TIME:20260410T061113
DTSTAMP;VALUE=DATE-TIME:20260427T180000Z
LOCATION:Fritz Bauer Forum, Feldmark 107, 44803 Bochum
URL://www.xn--untergrund-blttle-2qb.ch/events/236033/gaelle-belem-die-seltenste-frucht-lesung-fritz-bauer-forum-bochum.html
END:VEVENT
BEGIN:VTIMEZONE
TZID:Europe/Zurich
X-LIC-LOCATION:Europe/Zurich
BEGIN:STANDARD
DTSTART;VALUE=DATE-TIME:20260427T180000
TZNAME:CET
TZOFFSETFROM:+0200
TZOFFSETTO:+0100
END:STANDARD
BEGIN:DAYLIGHT
DTSTART;VALUE=DATE-TIME:20260427T180000
TZNAME:CEST
TZOFFSETFROM:+0100
TZOFFSETTO:+0200
END:DAYLIGHT
BEGIN:STANDARD
DTSTART;VALUE=DATE-TIME:20260427T180000
TZNAME:CET
TZOFFSETFROM:+0200
TZOFFSETTO:+0100
END:STANDARD
END:VTIMEZONE
END:VCALENDAR