BEGIN:VCALENDAR
VERSION:2.0
PRODID:-//UB-Event
TZID:Europe/Zurich
X-WR-TIMEZONE:Europe/Zurich
CALSCALE:GREGORIAN
BEGIN:VEVENT
SUMMARY:queerKAstle Spieleabend
UID:236027
DTSTART;TZID=Europe/Zurich;VALUE=DATE-TIME:20260805T180000
DTEND;TZID=Europe/Zurich;VALUE=DATE-TIME:20260805T200000
LAST-MODIFIED;TZID=Europe/Zurich;VALUE=DATE-TIME:20260411T054851
DTSTAMP;VALUE=DATE-TIME:20260805T180000Z
LOCATION:Rollen- und Brettspielverein Thoule, Ostendstraße 1, 76131 Karlsruhe
URL://www.xn--untergrund-blttle-2qb.ch/events/236027/queerkastle-spieleabend-rollen-und-brettspielverein-thoule-karlsruhe.html
END:VEVENT
BEGIN:VTIMEZONE
TZID:Europe/Zurich
X-LIC-LOCATION:Europe/Zurich
BEGIN:STANDARD
DTSTART;VALUE=DATE-TIME:20260805T180000
TZNAME:CET
TZOFFSETFROM:+0200
TZOFFSETTO:+0100
END:STANDARD
BEGIN:DAYLIGHT
DTSTART;VALUE=DATE-TIME:20260805T180000
TZNAME:CEST
TZOFFSETFROM:+0100
TZOFFSETTO:+0200
END:DAYLIGHT
BEGIN:STANDARD
DTSTART;VALUE=DATE-TIME:20260805T180000
TZNAME:CET
TZOFFSETFROM:+0200
TZOFFSETTO:+0100
END:STANDARD
END:VTIMEZONE
END:VCALENDAR