BEGIN:VCALENDAR
VERSION:2.0
PRODID:-//UB-Event
TZID:Europe/Zurich
X-WR-TIMEZONE:Europe/Zurich
CALSCALE:GREGORIAN
BEGIN:VEVENT
SUMMARY:Wisecräcker
UID:236023
DTSTART;TZID=Europe/Zurich;VALUE=DATE-TIME:20261219T210000
DTEND;TZID=Europe/Zurich;VALUE=DATE-TIME:20261219T230000
LAST-MODIFIED;TZID=Europe/Zurich;VALUE=DATE-TIME:20260410T060617
DTSTAMP;VALUE=DATE-TIME:20261219T210000Z
LOCATION:Kulturzentrum Lagerhaus, Schildstraße 12-19, 28203 Bremen
URL://www.xn--untergrund-blttle-2qb.ch/events/236023/wisecraecker-kulturzentrum-lagerhaus-bremen.html
END:VEVENT
BEGIN:VTIMEZONE
TZID:Europe/Zurich
X-LIC-LOCATION:Europe/Zurich
BEGIN:STANDARD
DTSTART;VALUE=DATE-TIME:20261219T210000
TZNAME:CET
TZOFFSETFROM:+0200
TZOFFSETTO:+0100
END:STANDARD
BEGIN:DAYLIGHT
DTSTART;VALUE=DATE-TIME:20261219T210000
TZNAME:CEST
TZOFFSETFROM:+0100
TZOFFSETTO:+0200
END:DAYLIGHT
BEGIN:STANDARD
DTSTART;VALUE=DATE-TIME:20261219T210000
TZNAME:CET
TZOFFSETFROM:+0200
TZOFFSETTO:+0100
END:STANDARD
END:VTIMEZONE
END:VCALENDAR