BEGIN:VCALENDAR
VERSION:2.0
PRODID:-//UB-Event
TZID:Europe/Zurich
X-WR-TIMEZONE:Europe/Zurich
CALSCALE:GREGORIAN
BEGIN:VEVENT
SUMMARY:Swiss & Die Andern
UID:236021
DTSTART;TZID=Europe/Zurich;VALUE=DATE-TIME:20261212T210000
DTEND;TZID=Europe/Zurich;VALUE=DATE-TIME:20261212T230000
LAST-MODIFIED;TZID=Europe/Zurich;VALUE=DATE-TIME:20260410T060617
DTSTAMP;VALUE=DATE-TIME:20261212T210000Z
LOCATION:Skaters Palace, Dahlweg 126, 48153 Münster
URL://www.xn--untergrund-blttle-2qb.ch/events/236021/swiss-die-andern-skaters-palace-muenster.html
END:VEVENT
BEGIN:VTIMEZONE
TZID:Europe/Zurich
X-LIC-LOCATION:Europe/Zurich
BEGIN:STANDARD
DTSTART;VALUE=DATE-TIME:20261212T210000
TZNAME:CET
TZOFFSETFROM:+0200
TZOFFSETTO:+0100
END:STANDARD
BEGIN:DAYLIGHT
DTSTART;VALUE=DATE-TIME:20261212T210000
TZNAME:CEST
TZOFFSETFROM:+0100
TZOFFSETTO:+0200
END:DAYLIGHT
BEGIN:STANDARD
DTSTART;VALUE=DATE-TIME:20261212T210000
TZNAME:CET
TZOFFSETFROM:+0200
TZOFFSETTO:+0100
END:STANDARD
END:VTIMEZONE
END:VCALENDAR