BEGIN:VCALENDAR
VERSION:2.0
PRODID:-//UB-Event
TZID:Europe/Zurich
X-WR-TIMEZONE:Europe/Zurich
CALSCALE:GREGORIAN
BEGIN:VEVENT
SUMMARY:Cold Hearted Festival mit Gvllow & Kaelan Mikla & Ash Code & Haunt Me & Darkways & Vioflesh
UID:236010
DTSTART;TZID=Europe/Zurich;VALUE=DATE-TIME:20261113T210000
DTEND;TZID=Europe/Zurich;VALUE=DATE-TIME:20261113T230000
LAST-MODIFIED;TZID=Europe/Zurich;VALUE=DATE-TIME:20260410T060616
DTSTAMP;VALUE=DATE-TIME:20261113T210000Z
LOCATION:Markthalle, Klosterwall, 20095 Hamburg
URL://www.xn--untergrund-blttle-2qb.ch/events/236010/cold-hearted-festival-mit-gvllow-kaelan-mikla-ash-code-haunt-me-darkways-vioflesh-markthalle-hamburg.html
END:VEVENT
BEGIN:VTIMEZONE
TZID:Europe/Zurich
X-LIC-LOCATION:Europe/Zurich
BEGIN:STANDARD
DTSTART;VALUE=DATE-TIME:20261113T210000
TZNAME:CET
TZOFFSETFROM:+0200
TZOFFSETTO:+0100
END:STANDARD
BEGIN:DAYLIGHT
DTSTART;VALUE=DATE-TIME:20261113T210000
TZNAME:CEST
TZOFFSETFROM:+0100
TZOFFSETTO:+0200
END:DAYLIGHT
BEGIN:STANDARD
DTSTART;VALUE=DATE-TIME:20261113T210000
TZNAME:CET
TZOFFSETFROM:+0200
TZOFFSETTO:+0100
END:STANDARD
END:VTIMEZONE
END:VCALENDAR