BEGIN:VCALENDAR
VERSION:2.0
PRODID:-//UB-Event
TZID:Europe/Zurich
X-WR-TIMEZONE:Europe/Zurich
CALSCALE:GREGORIAN
BEGIN:VEVENT
SUMMARY:Peter and The Test Tube Babies & The Hawaiians & North Alone
UID:235985
DTSTART;TZID=Europe/Zurich;VALUE=DATE-TIME:20260919T210000
DTEND;TZID=Europe/Zurich;VALUE=DATE-TIME:20260919T230000
LAST-MODIFIED;TZID=Europe/Zurich;VALUE=DATE-TIME:20260410T060615
DTSTAMP;VALUE=DATE-TIME:20260919T210000Z
LOCATION:Hyde Park, Fürstenauer Weg 128, 49090 Osnabrück
URL://www.xn--untergrund-blttle-2qb.ch/events/235985/peter-and-the-test-tube-babies-the-hawaiians-north-alone-hyde-park-osnabrueck.html
END:VEVENT
BEGIN:VTIMEZONE
TZID:Europe/Zurich
X-LIC-LOCATION:Europe/Zurich
BEGIN:STANDARD
DTSTART;VALUE=DATE-TIME:20260919T210000
TZNAME:CET
TZOFFSETFROM:+0200
TZOFFSETTO:+0100
END:STANDARD
BEGIN:DAYLIGHT
DTSTART;VALUE=DATE-TIME:20260919T210000
TZNAME:CEST
TZOFFSETFROM:+0100
TZOFFSETTO:+0200
END:DAYLIGHT
BEGIN:STANDARD
DTSTART;VALUE=DATE-TIME:20260919T210000
TZNAME:CET
TZOFFSETFROM:+0200
TZOFFSETTO:+0100
END:STANDARD
END:VTIMEZONE
END:VCALENDAR