BEGIN:VCALENDAR
VERSION:2.0
PRODID:-//UB-Event
TZID:Europe/Zurich
X-WR-TIMEZONE:Europe/Zurich
CALSCALE:GREGORIAN
BEGIN:VEVENT
SUMMARY:Die Toten Hosen
UID:235977
DTSTART;TZID=Europe/Zurich;VALUE=DATE-TIME:20260902T210000
DTEND;TZID=Europe/Zurich;VALUE=DATE-TIME:20260902T230000
LAST-MODIFIED;TZID=Europe/Zurich;VALUE=DATE-TIME:20260410T060614
DTSTAMP;VALUE=DATE-TIME:20260902T210000Z
LOCATION:Halle Münsterland, Albersloher Weg 32, 48155 Münster
URL://www.xn--untergrund-blttle-2qb.ch/events/235977/die-toten-hosen-halle-muensterland-muenster.html
END:VEVENT
BEGIN:VTIMEZONE
TZID:Europe/Zurich
X-LIC-LOCATION:Europe/Zurich
BEGIN:STANDARD
DTSTART;VALUE=DATE-TIME:20260902T210000
TZNAME:CET
TZOFFSETFROM:+0200
TZOFFSETTO:+0100
END:STANDARD
BEGIN:DAYLIGHT
DTSTART;VALUE=DATE-TIME:20260902T210000
TZNAME:CEST
TZOFFSETFROM:+0100
TZOFFSETTO:+0200
END:DAYLIGHT
BEGIN:STANDARD
DTSTART;VALUE=DATE-TIME:20260902T210000
TZNAME:CET
TZOFFSETFROM:+0200
TZOFFSETTO:+0100
END:STANDARD
END:VTIMEZONE
END:VCALENDAR