BEGIN:VCALENDAR
VERSION:2.0
PRODID:-//UB-Event
TZID:Europe/Zurich
X-WR-TIMEZONE:Europe/Zurich
CALSCALE:GREGORIAN
BEGIN:VEVENT
SUMMARY:The Hawaiians & Die Spezialisten & Protokumpel
UID:235951
DTSTART;TZID=Europe/Zurich;VALUE=DATE-TIME:20260613T210000
DTEND;TZID=Europe/Zurich;VALUE=DATE-TIME:20260613T230000
LAST-MODIFIED;TZID=Europe/Zurich;VALUE=DATE-TIME:20260410T060611
DTSTAMP;VALUE=DATE-TIME:20260613T210000Z
LOCATION:Rare Guitar, Hafenstraße 64, 48153 Münster
URL://www.xn--untergrund-blttle-2qb.ch/events/235951/the-hawaiians-die-spezialisten-protokumpel-rare-guitar-muenster.html
END:VEVENT
BEGIN:VTIMEZONE
TZID:Europe/Zurich
X-LIC-LOCATION:Europe/Zurich
BEGIN:STANDARD
DTSTART;VALUE=DATE-TIME:20260613T210000
TZNAME:CET
TZOFFSETFROM:+0200
TZOFFSETTO:+0100
END:STANDARD
BEGIN:DAYLIGHT
DTSTART;VALUE=DATE-TIME:20260613T210000
TZNAME:CEST
TZOFFSETFROM:+0100
TZOFFSETTO:+0200
END:DAYLIGHT
BEGIN:STANDARD
DTSTART;VALUE=DATE-TIME:20260613T210000
TZNAME:CET
TZOFFSETFROM:+0200
TZOFFSETTO:+0100
END:STANDARD
END:VTIMEZONE
END:VCALENDAR