BEGIN:VCALENDAR
VERSION:2.0
PRODID:-//UB-Event
TZID:Europe/Zurich
X-WR-TIMEZONE:Europe/Zurich
CALSCALE:GREGORIAN
BEGIN:VEVENT
SUMMARY:Gott sei Punk mit u.A. Wisecräcker & Bluthund & Brutal Besoffen & BSK & Chapter X & Die Skeptiker & Diggen & Rasta Knast & Dnjvn & Ersatzkopf & Sikk Likkz
UID:235947
DTSTART;TZID=Europe/Zurich;VALUE=DATE-TIME:20260606T210000
DTEND;TZID=Europe/Zurich;VALUE=DATE-TIME:20260606T230000
LAST-MODIFIED;TZID=Europe/Zurich;VALUE=DATE-TIME:20260410T060611
DTSTAMP;VALUE=DATE-TIME:20260606T210000Z
LOCATION:DOCKS, Spielbudenplatz 19, 20359 Hamburg
URL://www.xn--untergrund-blttle-2qb.ch/events/235947/gott-sei-punk-mit-u-a-wisecraecker-bluthund-brutal-besoffen-bsk-chapter-x-die-skeptiker-diggen-rasta-knast-dnjvn-ersatzkopf-sikk-likkz-docks-hamburg.html
END:VEVENT
BEGIN:VTIMEZONE
TZID:Europe/Zurich
X-LIC-LOCATION:Europe/Zurich
BEGIN:STANDARD
DTSTART;VALUE=DATE-TIME:20260606T210000
TZNAME:CET
TZOFFSETFROM:+0200
TZOFFSETTO:+0100
END:STANDARD
BEGIN:DAYLIGHT
DTSTART;VALUE=DATE-TIME:20260606T210000
TZNAME:CEST
TZOFFSETFROM:+0100
TZOFFSETTO:+0200
END:DAYLIGHT
BEGIN:STANDARD
DTSTART;VALUE=DATE-TIME:20260606T210000
TZNAME:CET
TZOFFSETFROM:+0200
TZOFFSETTO:+0100
END:STANDARD
END:VTIMEZONE
END:VCALENDAR