BEGIN:VCALENDAR
VERSION:2.0
PRODID:-//UB-Event
TZID:Europe/Zurich
X-WR-TIMEZONE:Europe/Zurich
CALSCALE:GREGORIAN
BEGIN:VEVENT
SUMMARY:Wasabi Riot
UID:235945
DTSTART;TZID=Europe/Zurich;VALUE=DATE-TIME:20260606T210000
DTEND;TZID=Europe/Zurich;VALUE=DATE-TIME:20260606T230000
LAST-MODIFIED;TZID=Europe/Zurich;VALUE=DATE-TIME:20260410T060610
DTSTAMP;VALUE=DATE-TIME:20260606T210000Z
LOCATION:Bocksmauer Saal, Bocksmauer 13, 49074 Osnabrück
URL://www.xn--untergrund-blttle-2qb.ch/events/235945/wasabi-riot-bocksmauer-saal-osnabrueck.html
END:VEVENT
BEGIN:VTIMEZONE
TZID:Europe/Zurich
X-LIC-LOCATION:Europe/Zurich
BEGIN:STANDARD
DTSTART;VALUE=DATE-TIME:20260606T210000
TZNAME:CET
TZOFFSETFROM:+0200
TZOFFSETTO:+0100
END:STANDARD
BEGIN:DAYLIGHT
DTSTART;VALUE=DATE-TIME:20260606T210000
TZNAME:CEST
TZOFFSETFROM:+0100
TZOFFSETTO:+0200
END:DAYLIGHT
BEGIN:STANDARD
DTSTART;VALUE=DATE-TIME:20260606T210000
TZNAME:CET
TZOFFSETFROM:+0200
TZOFFSETTO:+0100
END:STANDARD
END:VTIMEZONE
END:VCALENDAR