BEGIN:VCALENDAR
VERSION:2.0
PRODID:-//UB-Event
TZID:Europe/Zurich
X-WR-TIMEZONE:Europe/Zurich
CALSCALE:GREGORIAN
BEGIN:VEVENT
SUMMARY:Syff & Ponys Auf Pump & Empty Bones & Szene Putzn & Raubwürger & Night Punch
UID:235918
DTSTART;TZID=Europe/Zurich;VALUE=DATE-TIME:20260514T210000
DTEND;TZID=Europe/Zurich;VALUE=DATE-TIME:20260514T230000
LAST-MODIFIED;TZID=Europe/Zurich;VALUE=DATE-TIME:20260410T060607
DTSTAMP;VALUE=DATE-TIME:20260514T210000Z
LOCATION:Rote Flora, Schulterblatt 71, 20357 Hamburg
URL://www.xn--untergrund-blttle-2qb.ch/events/235918/syff-ponys-auf-pump-empty-bones-szene-putzn-raubwuerger-night-punch-rote-flora-hamburg.html
END:VEVENT
BEGIN:VTIMEZONE
TZID:Europe/Zurich
X-LIC-LOCATION:Europe/Zurich
BEGIN:STANDARD
DTSTART;VALUE=DATE-TIME:20260514T210000
TZNAME:CET
TZOFFSETFROM:+0200
TZOFFSETTO:+0100
END:STANDARD
BEGIN:DAYLIGHT
DTSTART;VALUE=DATE-TIME:20260514T210000
TZNAME:CEST
TZOFFSETFROM:+0100
TZOFFSETTO:+0200
END:DAYLIGHT
BEGIN:STANDARD
DTSTART;VALUE=DATE-TIME:20260514T210000
TZNAME:CET
TZOFFSETFROM:+0200
TZOFFSETTO:+0100
END:STANDARD
END:VTIMEZONE
END:VCALENDAR