BEGIN:VCALENDAR
VERSION:2.0
PRODID:-//UB-Event
TZID:Europe/Zurich
X-WR-TIMEZONE:Europe/Zurich
CALSCALE:GREGORIAN
BEGIN:VEVENT
SUMMARY:Onkel Otto Bühne mit Civilian Thrower & Pisscharge & Moribund Scum & Agnosy & Funeral Damage & A.F.K. & Lès Pünks
UID:235915
DTSTART;TZID=Europe/Zurich;VALUE=DATE-TIME:20260509T210000
DTEND;TZID=Europe/Zurich;VALUE=DATE-TIME:20260509T230000
LAST-MODIFIED;TZID=Europe/Zurich;VALUE=DATE-TIME:20260410T060607
DTSTAMP;VALUE=DATE-TIME:20260509T210000Z
LOCATION:Hafengeburtstag, Hermann-Blohm-Straße 3, 20457 Hamburg
URL://www.xn--untergrund-blttle-2qb.ch/events/235915/onkel-otto-buehne-mit-civilian-thrower-pisscharge-moribund-scum-agnosy-funeral-damage-a-f-k-les-puenks-hafengeburtstag-hamburg.html
END:VEVENT
BEGIN:VTIMEZONE
TZID:Europe/Zurich
X-LIC-LOCATION:Europe/Zurich
BEGIN:STANDARD
DTSTART;VALUE=DATE-TIME:20260509T210000
TZNAME:CET
TZOFFSETFROM:+0200
TZOFFSETTO:+0100
END:STANDARD
BEGIN:DAYLIGHT
DTSTART;VALUE=DATE-TIME:20260509T210000
TZNAME:CEST
TZOFFSETFROM:+0100
TZOFFSETTO:+0200
END:DAYLIGHT
BEGIN:STANDARD
DTSTART;VALUE=DATE-TIME:20260509T210000
TZNAME:CET
TZOFFSETFROM:+0200
TZOFFSETTO:+0100
END:STANDARD
END:VTIMEZONE
END:VCALENDAR