BEGIN:VCALENDAR
VERSION:2.0
PRODID:-//UB-Event
TZID:Europe/Zurich
X-WR-TIMEZONE:Europe/Zurich
CALSCALE:GREGORIAN
BEGIN:VEVENT
SUMMARY:Hans Nötig & DJ C-Zar / Duzo & Mr. Penncroff u.a
UID:235901
DTSTART;TZID=Europe/Zurich;VALUE=DATE-TIME:20260424T210000
DTEND;TZID=Europe/Zurich;VALUE=DATE-TIME:20260424T230000
LAST-MODIFIED;TZID=Europe/Zurich;VALUE=DATE-TIME:20260410T055532
DTSTAMP;VALUE=DATE-TIME:20260424T210000Z
LOCATION:Gaswerk, Untere Schöntalstrasse 19, 8400 Winterthur
URL://www.xn--untergrund-blttle-2qb.ch/events/235901/hans-noetig-dj-c-zar-duzo-mr-penncroff-u-a-gaswerk-winterthur.html
END:VEVENT
BEGIN:VTIMEZONE
TZID:Europe/Zurich
X-LIC-LOCATION:Europe/Zurich
BEGIN:STANDARD
DTSTART;VALUE=DATE-TIME:20260424T210000
TZNAME:CET
TZOFFSETFROM:+0200
TZOFFSETTO:+0100
END:STANDARD
BEGIN:DAYLIGHT
DTSTART;VALUE=DATE-TIME:20260424T210000
TZNAME:CEST
TZOFFSETFROM:+0100
TZOFFSETTO:+0200
END:DAYLIGHT
BEGIN:STANDARD
DTSTART;VALUE=DATE-TIME:20260424T210000
TZNAME:CET
TZOFFSETFROM:+0200
TZOFFSETTO:+0100
END:STANDARD
END:VTIMEZONE
END:VCALENDAR