BEGIN:VCALENDAR
VERSION:2.0
PRODID:-//UB-Event
TZID:Europe/Zurich
X-WR-TIMEZONE:Europe/Zurich
CALSCALE:GREGORIAN
BEGIN:VEVENT
SUMMARY:47 Jahre ZELTINGER BAND - Heimspiel 2026 - The Next Chapter Tour 2026
UID:235811
DTSTART;TZID=Europe/Zurich;VALUE=DATE-TIME:20260509T210000
DTEND;TZID=Europe/Zurich;VALUE=DATE-TIME:20260509T230000
LAST-MODIFIED;TZID=Europe/Zurich;VALUE=DATE-TIME:20260409T063839
DTSTAMP;VALUE=DATE-TIME:20260509T210000Z
LOCATION:GEBÄUDE 9, Deutz-Mülheimer Strasse 127-129, 51063 Köln
URL://www.xn--untergrund-blttle-2qb.ch/events/235811/47-jahre-zeltinger-band-heimspiel-2026-the-next-chapter-tour-2026-gebaeude-9-koeln.html
END:VEVENT
BEGIN:VTIMEZONE
TZID:Europe/Zurich
X-LIC-LOCATION:Europe/Zurich
BEGIN:STANDARD
DTSTART;VALUE=DATE-TIME:20260509T210000
TZNAME:CET
TZOFFSETFROM:+0200
TZOFFSETTO:+0100
END:STANDARD
BEGIN:DAYLIGHT
DTSTART;VALUE=DATE-TIME:20260509T210000
TZNAME:CEST
TZOFFSETFROM:+0100
TZOFFSETTO:+0200
END:DAYLIGHT
BEGIN:STANDARD
DTSTART;VALUE=DATE-TIME:20260509T210000
TZNAME:CET
TZOFFSETFROM:+0200
TZOFFSETTO:+0100
END:STANDARD
END:VTIMEZONE
END:VCALENDAR