BEGIN:VCALENDAR
VERSION:2.0
PRODID:-//UB-Event
TZID:Europe/Zurich
X-WR-TIMEZONE:Europe/Zurich
CALSCALE:GREGORIAN
BEGIN:VEVENT
SUMMARY:METAL Tour 2026 Heavysaurus Vorstellung 2 - 17:30 Uhr
UID:235792
DTSTART;TZID=Europe/Zurich;VALUE=DATE-TIME:20260509T210000
DTEND;TZID=Europe/Zurich;VALUE=DATE-TIME:20260509T230000
LAST-MODIFIED;TZID=Europe/Zurich;VALUE=DATE-TIME:20260409T063839
DTSTAMP;VALUE=DATE-TIME:20260509T210000Z
LOCATION:Z7, Kraftwerkstrasse 7, 4133 Pratteln
URL://www.xn--untergrund-blttle-2qb.ch/events/235792/metal-tour-2026-heavysaurus-vorstellung-2-17-30-uhr-z7-pratteln.html
END:VEVENT
BEGIN:VTIMEZONE
TZID:Europe/Zurich
X-LIC-LOCATION:Europe/Zurich
BEGIN:STANDARD
DTSTART;VALUE=DATE-TIME:20260509T210000
TZNAME:CET
TZOFFSETFROM:+0200
TZOFFSETTO:+0100
END:STANDARD
BEGIN:DAYLIGHT
DTSTART;VALUE=DATE-TIME:20260509T210000
TZNAME:CEST
TZOFFSETFROM:+0100
TZOFFSETTO:+0200
END:DAYLIGHT
BEGIN:STANDARD
DTSTART;VALUE=DATE-TIME:20260509T210000
TZNAME:CET
TZOFFSETFROM:+0200
TZOFFSETTO:+0100
END:STANDARD
END:VTIMEZONE
END:VCALENDAR