BEGIN:VCALENDAR
VERSION:2.0
PRODID:-//UB-Event
TZID:Europe/Zurich
X-WR-TIMEZONE:Europe/Zurich
CALSCALE:GREGORIAN
BEGIN:VEVENT
SUMMARY:Neckarions (Raw Melodic Punk, Stuttgart) / GvH (PunkRock, Stuttgart) im Keller
UID:235651
DTSTART;TZID=Europe/Zurich;VALUE=DATE-TIME:20260508T210000
DTEND;TZID=Europe/Zurich;VALUE=DATE-TIME:20260508T230000
LAST-MODIFIED;TZID=Europe/Zurich;VALUE=DATE-TIME:20260408T063837
DTSTAMP;VALUE=DATE-TIME:20260508T210000Z
LOCATION:Dreikönigskeller, Färberstraße 71, 60594 Frankfurt am Main
URL://www.xn--untergrund-blttle-2qb.ch/events/235651/neckarions-raw-melodic-punk-stuttgart-gvh-punkrock-stuttgart-im-keller-dreikoenigskeller-frankfurt-am-main.html
END:VEVENT
BEGIN:VTIMEZONE
TZID:Europe/Zurich
X-LIC-LOCATION:Europe/Zurich
BEGIN:STANDARD
DTSTART;VALUE=DATE-TIME:20260508T210000
TZNAME:CET
TZOFFSETFROM:+0200
TZOFFSETTO:+0100
END:STANDARD
BEGIN:DAYLIGHT
DTSTART;VALUE=DATE-TIME:20260508T210000
TZNAME:CEST
TZOFFSETFROM:+0100
TZOFFSETTO:+0200
END:DAYLIGHT
BEGIN:STANDARD
DTSTART;VALUE=DATE-TIME:20260508T210000
TZNAME:CET
TZOFFSETFROM:+0200
TZOFFSETTO:+0100
END:STANDARD
END:VTIMEZONE
END:VCALENDAR