BEGIN:VCALENDAR
VERSION:2.0
PRODID:-//UB-Event
TZID:Europe/Zurich
X-WR-TIMEZONE:Europe/Zurich
CALSCALE:GREGORIAN
BEGIN:VEVENT
SUMMARY:LÙISA - Call me the witch-Tour 2026 (Indie-Pop, Rock)
UID:235646
DTSTART;TZID=Europe/Zurich;VALUE=DATE-TIME:20260508T210000
DTEND;TZID=Europe/Zurich;VALUE=DATE-TIME:20260508T230000
LAST-MODIFIED;TZID=Europe/Zurich;VALUE=DATE-TIME:20260408T063837
DTSTAMP;VALUE=DATE-TIME:20260508T210000Z
LOCATION:Schon Schön, Grosse Bleiche 62, 55116 Mainz
URL://www.xn--untergrund-blttle-2qb.ch/events/235646/luisa-call-me-the-witch-tour-2026-indie-pop-rock-schon-schoen-mainz.html
END:VEVENT
BEGIN:VTIMEZONE
TZID:Europe/Zurich
X-LIC-LOCATION:Europe/Zurich
BEGIN:STANDARD
DTSTART;VALUE=DATE-TIME:20260508T210000
TZNAME:CET
TZOFFSETFROM:+0200
TZOFFSETTO:+0100
END:STANDARD
BEGIN:DAYLIGHT
DTSTART;VALUE=DATE-TIME:20260508T210000
TZNAME:CEST
TZOFFSETFROM:+0100
TZOFFSETTO:+0200
END:DAYLIGHT
BEGIN:STANDARD
DTSTART;VALUE=DATE-TIME:20260508T210000
TZNAME:CET
TZOFFSETFROM:+0200
TZOFFSETTO:+0100
END:STANDARD
END:VTIMEZONE
END:VCALENDAR