BEGIN:VCALENDAR
VERSION:2.0
PRODID:-//UB-Event
TZID:Europe/Zurich
X-WR-TIMEZONE:Europe/Zurich
CALSCALE:GREGORIAN
BEGIN:VEVENT
SUMMARY:Lord of the Lost TOVR NOIR 2026 Special Guests: Dogma, League of Distortion
UID:235642
DTSTART;TZID=Europe/Zurich;VALUE=DATE-TIME:20260508T210000
DTEND;TZID=Europe/Zurich;VALUE=DATE-TIME:20260508T230000
LAST-MODIFIED;TZID=Europe/Zurich;VALUE=DATE-TIME:20260408T063837
DTSTAMP;VALUE=DATE-TIME:20260508T210000Z
LOCATION:Carlswerk Victoria, Schanzenstraße 6-20, 51063 Köln
URL://www.xn--untergrund-blttle-2qb.ch/events/235642/lord-of-the-lost-tovr-noir-2026-special-guests-dogma-league-of-distortion-carlswerk-victoria-koeln.html
END:VEVENT
BEGIN:VTIMEZONE
TZID:Europe/Zurich
X-LIC-LOCATION:Europe/Zurich
BEGIN:STANDARD
DTSTART;VALUE=DATE-TIME:20260508T210000
TZNAME:CET
TZOFFSETFROM:+0200
TZOFFSETTO:+0100
END:STANDARD
BEGIN:DAYLIGHT
DTSTART;VALUE=DATE-TIME:20260508T210000
TZNAME:CEST
TZOFFSETFROM:+0100
TZOFFSETTO:+0200
END:DAYLIGHT
BEGIN:STANDARD
DTSTART;VALUE=DATE-TIME:20260508T210000
TZNAME:CET
TZOFFSETFROM:+0200
TZOFFSETTO:+0100
END:STANDARD
END:VTIMEZONE
END:VCALENDAR