BEGIN:VCALENDAR
VERSION:2.0
PRODID:-//UB-Event
TZID:Europe/Zurich
X-WR-TIMEZONE:Europe/Zurich
CALSCALE:GREGORIAN
BEGIN:VEVENT
SUMMARY:The Guilt Naked Rat Tour 2026 Riot-Grrrl-Elektropunk aus Malmö, Schweden
UID:235622
DTSTART;TZID=Europe/Zurich;VALUE=DATE-TIME:20260508T210000
DTEND;TZID=Europe/Zurich;VALUE=DATE-TIME:20260508T230000
LAST-MODIFIED;TZID=Europe/Zurich;VALUE=DATE-TIME:20260408T063837
DTSTAMP;VALUE=DATE-TIME:20260508T210000Z
LOCATION:Juzi, Bürgerstraße 41, 37073 Göttingen
URL://www.xn--untergrund-blttle-2qb.ch/events/235622/the-guilt-naked-rat-tour-2026-riot-grrrl-elektropunk-aus-malmoe-schweden-juzi-goettingen.html
END:VEVENT
BEGIN:VTIMEZONE
TZID:Europe/Zurich
X-LIC-LOCATION:Europe/Zurich
BEGIN:STANDARD
DTSTART;VALUE=DATE-TIME:20260508T210000
TZNAME:CET
TZOFFSETFROM:+0200
TZOFFSETTO:+0100
END:STANDARD
BEGIN:DAYLIGHT
DTSTART;VALUE=DATE-TIME:20260508T210000
TZNAME:CEST
TZOFFSETFROM:+0100
TZOFFSETTO:+0200
END:DAYLIGHT
BEGIN:STANDARD
DTSTART;VALUE=DATE-TIME:20260508T210000
TZNAME:CET
TZOFFSETFROM:+0200
TZOFFSETTO:+0100
END:STANDARD
END:VTIMEZONE
END:VCALENDAR