BEGIN:VCALENDAR
VERSION:2.0
PRODID:-//UB-Event
TZID:Europe/Zurich
X-WR-TIMEZONE:Europe/Zurich
CALSCALE:GREGORIAN
BEGIN:VEVENT
SUMMARY:Smile and Burn & Plaiins & The Pill
UID:235492
DTSTART;TZID=Europe/Zurich;VALUE=DATE-TIME:20261205T210000
DTEND;TZID=Europe/Zurich;VALUE=DATE-TIME:20261205T230000
LAST-MODIFIED;TZID=Europe/Zurich;VALUE=DATE-TIME:20260408T060615
DTSTAMP;VALUE=DATE-TIME:20261205T210000Z
LOCATION:Bi Nuu, U-Bahnhof Schlesisches Tor, 10997 Berlin
URL://www.xn--untergrund-blttle-2qb.ch/events/235492/smile-and-burn-plaiins-the-pill-bi-nuu-berlin.html
END:VEVENT
BEGIN:VTIMEZONE
TZID:Europe/Zurich
X-LIC-LOCATION:Europe/Zurich
BEGIN:STANDARD
DTSTART;VALUE=DATE-TIME:20261205T210000
TZNAME:CET
TZOFFSETFROM:+0200
TZOFFSETTO:+0100
END:STANDARD
BEGIN:DAYLIGHT
DTSTART;VALUE=DATE-TIME:20261205T210000
TZNAME:CEST
TZOFFSETFROM:+0100
TZOFFSETTO:+0200
END:DAYLIGHT
BEGIN:STANDARD
DTSTART;VALUE=DATE-TIME:20261205T210000
TZNAME:CET
TZOFFSETFROM:+0200
TZOFFSETTO:+0100
END:STANDARD
END:VTIMEZONE
END:VCALENDAR