BEGIN:VCALENDAR
VERSION:2.0
PRODID:-//UB-Event
TZID:Europe/Zurich
X-WR-TIMEZONE:Europe/Zurich
CALSCALE:GREGORIAN
BEGIN:VEVENT
SUMMARY:Bullshit Detǝctör oder Bad Terms
UID:235420
DTSTART;TZID=Europe/Zurich;VALUE=DATE-TIME:20260528T210000
DTEND;TZID=Europe/Zurich;VALUE=DATE-TIME:20260528T230000
LAST-MODIFIED;TZID=Europe/Zurich;VALUE=DATE-TIME:20260408T060609
DTSTAMP;VALUE=DATE-TIME:20260528T210000Z
LOCATION:Franken Bar, Oranienstraße 19A, 10999 Berlin
URL://www.xn--untergrund-blttle-2qb.ch/events/235420/bullshit-det-ctoer-oder-bad-terms-franken-bar-berlin.html
END:VEVENT
BEGIN:VTIMEZONE
TZID:Europe/Zurich
X-LIC-LOCATION:Europe/Zurich
BEGIN:STANDARD
DTSTART;VALUE=DATE-TIME:20260528T210000
TZNAME:CET
TZOFFSETFROM:+0200
TZOFFSETTO:+0100
END:STANDARD
BEGIN:DAYLIGHT
DTSTART;VALUE=DATE-TIME:20260528T210000
TZNAME:CEST
TZOFFSETFROM:+0100
TZOFFSETTO:+0200
END:DAYLIGHT
BEGIN:STANDARD
DTSTART;VALUE=DATE-TIME:20260528T210000
TZNAME:CET
TZOFFSETFROM:+0200
TZOFFSETTO:+0100
END:STANDARD
END:VTIMEZONE
END:VCALENDAR