BEGIN:VCALENDAR
VERSION:2.0
PRODID:-//UB-Event
TZID:Europe/Zurich
X-WR-TIMEZONE:Europe/Zurich
CALSCALE:GREGORIAN
BEGIN:VEVENT
SUMMARY:Cake Walk Fest Tag 1 mit u.A. Spirit Crusher & Cannonball & Turn of Phrase & Once and for All & Eternal Enemy & Compete & Look Ahead & Detonator
UID:235412
DTSTART;TZID=Europe/Zurich;VALUE=DATE-TIME:20260523T210000
DTEND;TZID=Europe/Zurich;VALUE=DATE-TIME:20260523T230000
LAST-MODIFIED;TZID=Europe/Zurich;VALUE=DATE-TIME:20260408T060608
DTSTAMP;VALUE=DATE-TIME:20260523T210000Z
LOCATION:Malzfabrik, Bessemerstraße 2;4;6;8;10;12;14, 12103 Berlin
URL://www.xn--untergrund-blttle-2qb.ch/events/235412/cake-walk-fest-tag-1-mit-u-a-spirit-crusher-cannonball-turn-of-phrase-once-and-for-all-eternal-enemy-compete-look-ahead-detonator-malzfabrik-berlin.html
END:VEVENT
BEGIN:VTIMEZONE
TZID:Europe/Zurich
X-LIC-LOCATION:Europe/Zurich
BEGIN:STANDARD
DTSTART;VALUE=DATE-TIME:20260523T210000
TZNAME:CET
TZOFFSETFROM:+0200
TZOFFSETTO:+0100
END:STANDARD
BEGIN:DAYLIGHT
DTSTART;VALUE=DATE-TIME:20260523T210000
TZNAME:CEST
TZOFFSETFROM:+0100
TZOFFSETTO:+0200
END:DAYLIGHT
BEGIN:STANDARD
DTSTART;VALUE=DATE-TIME:20260523T210000
TZNAME:CET
TZOFFSETFROM:+0200
TZOFFSETTO:+0100
END:STANDARD
END:VTIMEZONE
END:VCALENDAR