BEGIN:VCALENDAR
VERSION:2.0
PRODID:-//UB-Event
TZID:Europe/Zurich
X-WR-TIMEZONE:Europe/Zurich
CALSCALE:GREGORIAN
BEGIN:VEVENT
SUMMARY:Millions Of Dead Cops & Barackca
UID:235410
DTSTART;TZID=Europe/Zurich;VALUE=DATE-TIME:20260521T210000
DTEND;TZID=Europe/Zurich;VALUE=DATE-TIME:20260521T230000
LAST-MODIFIED;TZID=Europe/Zurich;VALUE=DATE-TIME:20260408T060608
DTSTAMP;VALUE=DATE-TIME:20260521T210000Z
LOCATION:Wild At Heart, Wiener Straße 20, 10999 Berlin
URL://www.xn--untergrund-blttle-2qb.ch/events/235410/millions-of-dead-cops-barackca-wild-at-heart-berlin.html
END:VEVENT
BEGIN:VTIMEZONE
TZID:Europe/Zurich
X-LIC-LOCATION:Europe/Zurich
BEGIN:STANDARD
DTSTART;VALUE=DATE-TIME:20260521T210000
TZNAME:CET
TZOFFSETFROM:+0200
TZOFFSETTO:+0100
END:STANDARD
BEGIN:DAYLIGHT
DTSTART;VALUE=DATE-TIME:20260521T210000
TZNAME:CEST
TZOFFSETFROM:+0100
TZOFFSETTO:+0200
END:DAYLIGHT
BEGIN:STANDARD
DTSTART;VALUE=DATE-TIME:20260521T210000
TZNAME:CET
TZOFFSETFROM:+0200
TZOFFSETTO:+0100
END:STANDARD
END:VTIMEZONE
END:VCALENDAR