BEGIN:VCALENDAR
VERSION:2.0
PRODID:-//UB-Event
TZID:Europe/Zurich
X-WR-TIMEZONE:Europe/Zurich
CALSCALE:GREGORIAN
BEGIN:VEVENT
SUMMARY:Steröid & JJ and THE A's & C.A.M.O & Astio
UID:235403
DTSTART;TZID=Europe/Zurich;VALUE=DATE-TIME:20260517T210000
DTEND;TZID=Europe/Zurich;VALUE=DATE-TIME:20260517T230000
LAST-MODIFIED;TZID=Europe/Zurich;VALUE=DATE-TIME:20260408T060607
DTSTAMP;VALUE=DATE-TIME:20260517T210000Z
LOCATION:LARK, Holzmarktstraße 15-18, 10179 Berlin
URL://www.xn--untergrund-blttle-2qb.ch/events/235403/steroeid-jj-and-the-a-s-c-a-m-o-astio-lark-berlin.html
END:VEVENT
BEGIN:VTIMEZONE
TZID:Europe/Zurich
X-LIC-LOCATION:Europe/Zurich
BEGIN:STANDARD
DTSTART;VALUE=DATE-TIME:20260517T210000
TZNAME:CET
TZOFFSETFROM:+0200
TZOFFSETTO:+0100
END:STANDARD
BEGIN:DAYLIGHT
DTSTART;VALUE=DATE-TIME:20260517T210000
TZNAME:CEST
TZOFFSETFROM:+0100
TZOFFSETTO:+0200
END:DAYLIGHT
BEGIN:STANDARD
DTSTART;VALUE=DATE-TIME:20260517T210000
TZNAME:CET
TZOFFSETFROM:+0200
TZOFFSETTO:+0100
END:STANDARD
END:VTIMEZONE
END:VCALENDAR