BEGIN:VCALENDAR
VERSION:2.0
PRODID:-//UB-Event
TZID:Europe/Zurich
X-WR-TIMEZONE:Europe/Zurich
CALSCALE:GREGORIAN
BEGIN:VEVENT
SUMMARY:Glue & Puffer & Assistert Sjolmord & Patrol & Lucta & Industry & Urin & Klavo
UID:235395
DTSTART;TZID=Europe/Zurich;VALUE=DATE-TIME:20260515T210000
DTEND;TZID=Europe/Zurich;VALUE=DATE-TIME:20260515T230000
LAST-MODIFIED;TZID=Europe/Zurich;VALUE=DATE-TIME:20260408T060607
DTSTAMP;VALUE=DATE-TIME:20260515T210000Z
LOCATION:Neue Zukunft, Alt-Stralau 68, 10245 Berlin
URL://www.xn--untergrund-blttle-2qb.ch/events/235395/glue-puffer-assistert-sjolmord-patrol-lucta-industry-urin-klavo-neue-zukunft-berlin.html
END:VEVENT
BEGIN:VTIMEZONE
TZID:Europe/Zurich
X-LIC-LOCATION:Europe/Zurich
BEGIN:STANDARD
DTSTART;VALUE=DATE-TIME:20260515T210000
TZNAME:CET
TZOFFSETFROM:+0200
TZOFFSETTO:+0100
END:STANDARD
BEGIN:DAYLIGHT
DTSTART;VALUE=DATE-TIME:20260515T210000
TZNAME:CEST
TZOFFSETFROM:+0100
TZOFFSETTO:+0200
END:DAYLIGHT
BEGIN:STANDARD
DTSTART;VALUE=DATE-TIME:20260515T210000
TZNAME:CET
TZOFFSETFROM:+0200
TZOFFSETTO:+0100
END:STANDARD
END:VTIMEZONE
END:VCALENDAR