BEGIN:VCALENDAR
VERSION:2.0
PRODID:-//UB-Event
TZID:Europe/Zurich
X-WR-TIMEZONE:Europe/Zurich
CALSCALE:GREGORIAN
BEGIN:VEVENT
SUMMARY:Zombie Orchestra & R.P.C
UID:235385
DTSTART;TZID=Europe/Zurich;VALUE=DATE-TIME:20260509T210000
DTEND;TZID=Europe/Zurich;VALUE=DATE-TIME:20260509T230000
LAST-MODIFIED;TZID=Europe/Zurich;VALUE=DATE-TIME:20260408T060606
DTSTAMP;VALUE=DATE-TIME:20260509T210000Z
LOCATION:Kindl-Buehne Wuhlheide, Straße zum FEZ 4, 12459 Berlin
URL://www.xn--untergrund-blttle-2qb.ch/events/235385/zombie-orchestra-r-p-c-kindl-buehne-wuhlheide-berlin.html
END:VEVENT
BEGIN:VTIMEZONE
TZID:Europe/Zurich
X-LIC-LOCATION:Europe/Zurich
BEGIN:STANDARD
DTSTART;VALUE=DATE-TIME:20260509T210000
TZNAME:CET
TZOFFSETFROM:+0200
TZOFFSETTO:+0100
END:STANDARD
BEGIN:DAYLIGHT
DTSTART;VALUE=DATE-TIME:20260509T210000
TZNAME:CEST
TZOFFSETFROM:+0100
TZOFFSETTO:+0200
END:DAYLIGHT
BEGIN:STANDARD
DTSTART;VALUE=DATE-TIME:20260509T210000
TZNAME:CET
TZOFFSETFROM:+0200
TZOFFSETTO:+0100
END:STANDARD
END:VTIMEZONE
END:VCALENDAR