BEGIN:VCALENDAR
VERSION:2.0
PRODID:-//UB-Event
TZID:Europe/Zurich
X-WR-TIMEZONE:Europe/Zurich
CALSCALE:GREGORIAN
BEGIN:VEVENT
SUMMARY:taz Salon: Wie links darf's noch sein?
UID:235358
DTSTART;TZID=Europe/Zurich;VALUE=DATE-TIME:20260428T190000
DTEND;TZID=Europe/Zurich;VALUE=DATE-TIME:20260428T210000
LAST-MODIFIED;TZID=Europe/Zurich;VALUE=DATE-TIME:20260409T112449
DTSTAMP;VALUE=DATE-TIME:20260428T190000Z
LOCATION:Kulturzentrum Lagerhaus, Schildstraße 12-19, 28203 Bremen
URL://www.xn--untergrund-blttle-2qb.ch/events/235358/taz-salon-wie-links-darf-s-noch-sein-kulturzentrum-lagerhaus-bremen.html
END:VEVENT
BEGIN:VTIMEZONE
TZID:Europe/Zurich
X-LIC-LOCATION:Europe/Zurich
BEGIN:STANDARD
DTSTART;VALUE=DATE-TIME:20260428T190000
TZNAME:CET
TZOFFSETFROM:+0200
TZOFFSETTO:+0100
END:STANDARD
BEGIN:DAYLIGHT
DTSTART;VALUE=DATE-TIME:20260428T190000
TZNAME:CEST
TZOFFSETFROM:+0100
TZOFFSETTO:+0200
END:DAYLIGHT
BEGIN:STANDARD
DTSTART;VALUE=DATE-TIME:20260428T190000
TZNAME:CET
TZOFFSETFROM:+0200
TZOFFSETTO:+0100
END:STANDARD
END:VTIMEZONE
END:VCALENDAR