BEGIN:VCALENDAR
VERSION:2.0
PRODID:-//UB-Event
TZID:Europe/Zurich
X-WR-TIMEZONE:Europe/Zurich
CALSCALE:GREGORIAN
BEGIN:VEVENT
SUMMARY:Godsleep is a heavy pop / genre fluid rock band from Athens, Greece SUPPORT: THE
UID:235309
DTSTART;TZID=Europe/Zurich;VALUE=DATE-TIME:20260507T210000
DTEND;TZID=Europe/Zurich;VALUE=DATE-TIME:20260507T230000
LAST-MODIFIED;TZID=Europe/Zurich;VALUE=DATE-TIME:20260407T063835
DTSTAMP;VALUE=DATE-TIME:20260507T210000Z
LOCATION:Garagen, Oskar-Jäger-Straße 179, 50825 Köln
URL://www.xn--untergrund-blttle-2qb.ch/events/235309/godsleep-is-a-heavy-pop-genre-fluid-rock-band-from-athens-greece-support-the-garagen-koeln.html
END:VEVENT
BEGIN:VTIMEZONE
TZID:Europe/Zurich
X-LIC-LOCATION:Europe/Zurich
BEGIN:STANDARD
DTSTART;VALUE=DATE-TIME:20260507T210000
TZNAME:CET
TZOFFSETFROM:+0200
TZOFFSETTO:+0100
END:STANDARD
BEGIN:DAYLIGHT
DTSTART;VALUE=DATE-TIME:20260507T210000
TZNAME:CEST
TZOFFSETFROM:+0100
TZOFFSETTO:+0200
END:DAYLIGHT
BEGIN:STANDARD
DTSTART;VALUE=DATE-TIME:20260507T210000
TZNAME:CET
TZOFFSETFROM:+0200
TZOFFSETTO:+0100
END:STANDARD
END:VTIMEZONE
END:VCALENDAR