BEGIN:VCALENDAR
VERSION:2.0
PRODID:-//UB-Event
TZID:Europe/Zurich
X-WR-TIMEZONE:Europe/Zurich
CALSCALE:GREGORIAN
BEGIN:VEVENT
SUMMARY:Blackwater Holylight (us), A Burial at Sea // new hvn (ie) support: Divided (be)
UID:235288
DTSTART;TZID=Europe/Zurich;VALUE=DATE-TIME:20260507T210000
DTEND;TZID=Europe/Zurich;VALUE=DATE-TIME:20260507T230000
LAST-MODIFIED;TZID=Europe/Zurich;VALUE=DATE-TIME:20260407T063835
DTSTAMP;VALUE=DATE-TIME:20260507T210000Z
LOCATION:MS Stubnitz, Kirchenpauerkai Baakenhafen 26, 20457 Hamburg
URL://www.xn--untergrund-blttle-2qb.ch/events/235288/blackwater-holylight-us-a-burial-at-sea-new-hvn-ie-support-divided-be-ms-stubnitz-hamburg.html
END:VEVENT
BEGIN:VTIMEZONE
TZID:Europe/Zurich
X-LIC-LOCATION:Europe/Zurich
BEGIN:STANDARD
DTSTART;VALUE=DATE-TIME:20260507T210000
TZNAME:CET
TZOFFSETFROM:+0200
TZOFFSETTO:+0100
END:STANDARD
BEGIN:DAYLIGHT
DTSTART;VALUE=DATE-TIME:20260507T210000
TZNAME:CEST
TZOFFSETFROM:+0100
TZOFFSETTO:+0200
END:DAYLIGHT
BEGIN:STANDARD
DTSTART;VALUE=DATE-TIME:20260507T210000
TZNAME:CET
TZOFFSETFROM:+0200
TZOFFSETTO:+0100
END:STANDARD
END:VTIMEZONE
END:VCALENDAR