BEGIN:VCALENDAR
VERSION:2.0
PRODID:-//UB-Event
TZID:Europe/Zurich
X-WR-TIMEZONE:Europe/Zurich
CALSCALE:GREGORIAN
BEGIN:VEVENT
SUMMARY:Lilly Wood & The Prick
UID:235275
DTSTART;TZID=Europe/Zurich;VALUE=DATE-TIME:20260507T210000
DTEND;TZID=Europe/Zurich;VALUE=DATE-TIME:20260507T230000
LAST-MODIFIED;TZID=Europe/Zurich;VALUE=DATE-TIME:20260407T063835
DTSTAMP;VALUE=DATE-TIME:20260507T210000Z
LOCATION:Frannz-Club, Schönhauser Allee 36, 10435 Berlin
URL://www.xn--untergrund-blttle-2qb.ch/events/235275/lilly-wood-the-prick-frannz-club-berlin.html
END:VEVENT
BEGIN:VTIMEZONE
TZID:Europe/Zurich
X-LIC-LOCATION:Europe/Zurich
BEGIN:STANDARD
DTSTART;VALUE=DATE-TIME:20260507T210000
TZNAME:CET
TZOFFSETFROM:+0200
TZOFFSETTO:+0100
END:STANDARD
BEGIN:DAYLIGHT
DTSTART;VALUE=DATE-TIME:20260507T210000
TZNAME:CEST
TZOFFSETFROM:+0100
TZOFFSETTO:+0200
END:DAYLIGHT
BEGIN:STANDARD
DTSTART;VALUE=DATE-TIME:20260507T210000
TZNAME:CET
TZOFFSETFROM:+0200
TZOFFSETTO:+0100
END:STANDARD
END:VTIMEZONE
END:VCALENDAR