BEGIN:VCALENDAR
VERSION:2.0
PRODID:-//UB-Event
TZID:Europe/Zurich
X-WR-TIMEZONE:Europe/Zurich
CALSCALE:GREGORIAN
BEGIN:VEVENT
SUMMARY:Geh Denken!:  Antifaschismus im Film. Der Widerstand gegen den Nationalsozialismus im Spiegel dokumentarischer Filme der DDR
UID:235260
DTSTART;TZID=Europe/Zurich;VALUE=DATE-TIME:20260610T190000
DTEND;TZID=Europe/Zurich;VALUE=DATE-TIME:20260610T210000
LAST-MODIFIED;TZID=Europe/Zurich;VALUE=DATE-TIME:20260408T055844
DTSTAMP;VALUE=DATE-TIME:20260610T190000Z
LOCATION:Republikanischer Club, Rockhgasse 1, 1010 Wien
URL://www.xn--untergrund-blttle-2qb.ch/events/235260/geh-denken-antifaschismus-im-film-der-widerstand-gegen-den-nationalsozialismus-im-spiegel-dokumentarischer-filme-der-ddr-republikanischer-club-wien.html
END:VEVENT
BEGIN:VTIMEZONE
TZID:Europe/Zurich
X-LIC-LOCATION:Europe/Zurich
BEGIN:STANDARD
DTSTART;VALUE=DATE-TIME:20260610T190000
TZNAME:CET
TZOFFSETFROM:+0200
TZOFFSETTO:+0100
END:STANDARD
BEGIN:DAYLIGHT
DTSTART;VALUE=DATE-TIME:20260610T190000
TZNAME:CEST
TZOFFSETFROM:+0100
TZOFFSETTO:+0200
END:DAYLIGHT
BEGIN:STANDARD
DTSTART;VALUE=DATE-TIME:20260610T190000
TZNAME:CET
TZOFFSETFROM:+0200
TZOFFSETTO:+0100
END:STANDARD
END:VTIMEZONE
END:VCALENDAR