BEGIN:VCALENDAR
VERSION:2.0
PRODID:-//UB-Event
TZID:Europe/Zurich
X-WR-TIMEZONE:Europe/Zurich
CALSCALE:GREGORIAN
BEGIN:VEVENT
SUMMARY:GehDenken!: „Rote KZ“ oder Lager der Entnazifizierung? Deutungskämpfe um die sowjetischen Speziallager in Deutschland 1945–1950
UID:235258
DTSTART;TZID=Europe/Zurich;VALUE=DATE-TIME:20260519T190000
DTEND;TZID=Europe/Zurich;VALUE=DATE-TIME:20260519T210000
LAST-MODIFIED;TZID=Europe/Zurich;VALUE=DATE-TIME:20260408T055841
DTSTAMP;VALUE=DATE-TIME:20260519T190000Z
LOCATION:Republikanischer Club, Rockhgasse 1, 1010 Wien
URL://www.xn--untergrund-blttle-2qb.ch/events/235258/gehdenken-rote-kz-oder-lager-der-entnazifizierung-deutungskaempfe-um-die-sowjetischen-speziallager-in-deutschland-1945-1950-republikanischer-club-wien.html
END:VEVENT
BEGIN:VTIMEZONE
TZID:Europe/Zurich
X-LIC-LOCATION:Europe/Zurich
BEGIN:STANDARD
DTSTART;VALUE=DATE-TIME:20260519T190000
TZNAME:CET
TZOFFSETFROM:+0200
TZOFFSETTO:+0100
END:STANDARD
BEGIN:DAYLIGHT
DTSTART;VALUE=DATE-TIME:20260519T190000
TZNAME:CEST
TZOFFSETFROM:+0100
TZOFFSETTO:+0200
END:DAYLIGHT
BEGIN:STANDARD
DTSTART;VALUE=DATE-TIME:20260519T190000
TZNAME:CET
TZOFFSETFROM:+0200
TZOFFSETTO:+0100
END:STANDARD
END:VTIMEZONE
END:VCALENDAR