BEGIN:VCALENDAR
VERSION:2.0
PRODID:-//UB-Event
TZID:Europe/Zurich
X-WR-TIMEZONE:Europe/Zurich
CALSCALE:GREGORIAN
BEGIN:VEVENT
SUMMARY:[ANTIFA & MÄNNLICHKEIT] Antifa, Macker, Patriarchat – Antifaschismus und Männlichkeit
UID:235257
DTSTART;TZID=Europe/Zurich;VALUE=DATE-TIME:20260513T183000
DTEND;TZID=Europe/Zurich;VALUE=DATE-TIME:20260513T203000
LAST-MODIFIED;TZID=Europe/Zurich;VALUE=DATE-TIME:20260408T055839
DTSTAMP;VALUE=DATE-TIME:20260513T183000Z
LOCATION:w23, w23, Wipplingerstrasse 23, 1010 Wien (die Stiegen halb runter), 1010 Wien
URL://www.xn--untergrund-blttle-2qb.ch/events/235257/antifa-maennlichkeit-antifa-macker-patriarchat-antifaschismus-und-maennlichkeit-w23-wien.html
END:VEVENT
BEGIN:VTIMEZONE
TZID:Europe/Zurich
X-LIC-LOCATION:Europe/Zurich
BEGIN:STANDARD
DTSTART;VALUE=DATE-TIME:20260513T183000
TZNAME:CET
TZOFFSETFROM:+0200
TZOFFSETTO:+0100
END:STANDARD
BEGIN:DAYLIGHT
DTSTART;VALUE=DATE-TIME:20260513T183000
TZNAME:CEST
TZOFFSETFROM:+0100
TZOFFSETTO:+0200
END:DAYLIGHT
BEGIN:STANDARD
DTSTART;VALUE=DATE-TIME:20260513T183000
TZNAME:CET
TZOFFSETFROM:+0200
TZOFFSETTO:+0100
END:STANDARD
END:VTIMEZONE
END:VCALENDAR