BEGIN:VCALENDAR
VERSION:2.0
PRODID:-//UB-Event
TZID:Europe/Zurich
X-WR-TIMEZONE:Europe/Zurich
CALSCALE:GREGORIAN
BEGIN:VEVENT
SUMMARY:CF98 (PL) - „Stupid Punk“ Tour Spring 2026 Support: AT THE SHORE (Stuttgart)
UID:235199
DTSTART;TZID=Europe/Zurich;VALUE=DATE-TIME:20260506T210000
DTEND;TZID=Europe/Zurich;VALUE=DATE-TIME:20260506T230000
LAST-MODIFIED;TZID=Europe/Zurich;VALUE=DATE-TIME:20260406T063834
DTSTAMP;VALUE=DATE-TIME:20260506T210000Z
LOCATION:Juha West, Bebelstraße 26, 70193 Stuttgart
URL://www.xn--untergrund-blttle-2qb.ch/events/235199/cf98-pl-stupid-punk-tour-spring-2026-support-at-the-shore-stuttgart-juha-west-stuttgart.html
END:VEVENT
BEGIN:VTIMEZONE
TZID:Europe/Zurich
X-LIC-LOCATION:Europe/Zurich
BEGIN:STANDARD
DTSTART;VALUE=DATE-TIME:20260506T210000
TZNAME:CET
TZOFFSETFROM:+0200
TZOFFSETTO:+0100
END:STANDARD
BEGIN:DAYLIGHT
DTSTART;VALUE=DATE-TIME:20260506T210000
TZNAME:CEST
TZOFFSETFROM:+0100
TZOFFSETTO:+0200
END:DAYLIGHT
BEGIN:STANDARD
DTSTART;VALUE=DATE-TIME:20260506T210000
TZNAME:CET
TZOFFSETFROM:+0200
TZOFFSETTO:+0100
END:STANDARD
END:VTIMEZONE
END:VCALENDAR