BEGIN:VCALENDAR
VERSION:2.0
PRODID:-//UB-Event
TZID:Europe/Zurich
X-WR-TIMEZONE:Europe/Zurich
CALSCALE:GREGORIAN
BEGIN:VEVENT
SUMMARY:Elli Berlin & Brunhilde Metal, Rock, Punk und pure Leidenschaft in einem
UID:235185
DTSTART;TZID=Europe/Zurich;VALUE=DATE-TIME:20260506T210000
DTEND;TZID=Europe/Zurich;VALUE=DATE-TIME:20260506T230000
LAST-MODIFIED;TZID=Europe/Zurich;VALUE=DATE-TIME:20260406T063834
DTSTAMP;VALUE=DATE-TIME:20260506T210000Z
LOCATION:Matrix, Hauptstraße 200, 44892 Bochum
URL://www.xn--untergrund-blttle-2qb.ch/events/235185/elli-berlin-brunhilde-metal-rock-punk-und-pure-leidenschaft-in-einem-matrix-bochum.html
END:VEVENT
BEGIN:VTIMEZONE
TZID:Europe/Zurich
X-LIC-LOCATION:Europe/Zurich
BEGIN:STANDARD
DTSTART;VALUE=DATE-TIME:20260506T210000
TZNAME:CET
TZOFFSETFROM:+0200
TZOFFSETTO:+0100
END:STANDARD
BEGIN:DAYLIGHT
DTSTART;VALUE=DATE-TIME:20260506T210000
TZNAME:CEST
TZOFFSETFROM:+0100
TZOFFSETTO:+0200
END:DAYLIGHT
BEGIN:STANDARD
DTSTART;VALUE=DATE-TIME:20260506T210000
TZNAME:CET
TZOFFSETFROM:+0200
TZOFFSETTO:+0100
END:STANDARD
END:VTIMEZONE
END:VCALENDAR