BEGIN:VCALENDAR
VERSION:2.0
PRODID:-//UB-Event
TZID:Europe/Zurich
X-WR-TIMEZONE:Europe/Zurich
CALSCALE:GREGORIAN
BEGIN:VEVENT
SUMMARY:Primitive Man (us), Kollaps (au) EUROPEAN OBSERVANCE TOUR death sludge | black
UID:235175
DTSTART;TZID=Europe/Zurich;VALUE=DATE-TIME:20260506T210000
DTEND;TZID=Europe/Zurich;VALUE=DATE-TIME:20260506T230000
LAST-MODIFIED;TZID=Europe/Zurich;VALUE=DATE-TIME:20260406T063834
DTSTAMP;VALUE=DATE-TIME:20260506T210000Z
LOCATION:MS Stubnitz, Kirchenpauerkai Baakenhafen 26, 20457 Hamburg
URL://www.xn--untergrund-blttle-2qb.ch/events/235175/primitive-man-us-kollaps-au-european-observance-tour-death-sludge-black-ms-stubnitz-hamburg.html
END:VEVENT
BEGIN:VTIMEZONE
TZID:Europe/Zurich
X-LIC-LOCATION:Europe/Zurich
BEGIN:STANDARD
DTSTART;VALUE=DATE-TIME:20260506T210000
TZNAME:CET
TZOFFSETFROM:+0200
TZOFFSETTO:+0100
END:STANDARD
BEGIN:DAYLIGHT
DTSTART;VALUE=DATE-TIME:20260506T210000
TZNAME:CEST
TZOFFSETFROM:+0100
TZOFFSETTO:+0200
END:DAYLIGHT
BEGIN:STANDARD
DTSTART;VALUE=DATE-TIME:20260506T210000
TZNAME:CET
TZOFFSETFROM:+0200
TZOFFSETTO:+0100
END:STANDARD
END:VTIMEZONE
END:VCALENDAR