BEGIN:VCALENDAR
VERSION:2.0
PRODID:-//UB-Event
TZID:Europe/Zurich
X-WR-TIMEZONE:Europe/Zurich
CALSCALE:GREGORIAN
BEGIN:VEVENT
SUMMARY:Letzte Hoffnung (der KFC Tribute)
UID:235093
DTSTART;TZID=Europe/Zurich;VALUE=DATE-TIME:20260702T210000
DTEND;TZID=Europe/Zurich;VALUE=DATE-TIME:20260702T230000
LAST-MODIFIED;TZID=Europe/Zurich;VALUE=DATE-TIME:20260406T060604
DTSTAMP;VALUE=DATE-TIME:20260702T210000Z
LOCATION:Subkultur, Engelbosteler Damm 87, 30167 Hannover
URL://www.xn--untergrund-blttle-2qb.ch/events/235093/letzte-hoffnung-der-kfc-tribute-subkultur-hannover.html
END:VEVENT
BEGIN:VTIMEZONE
TZID:Europe/Zurich
X-LIC-LOCATION:Europe/Zurich
BEGIN:STANDARD
DTSTART;VALUE=DATE-TIME:20260702T210000
TZNAME:CET
TZOFFSETFROM:+0200
TZOFFSETTO:+0100
END:STANDARD
BEGIN:DAYLIGHT
DTSTART;VALUE=DATE-TIME:20260702T210000
TZNAME:CEST
TZOFFSETFROM:+0100
TZOFFSETTO:+0200
END:DAYLIGHT
BEGIN:STANDARD
DTSTART;VALUE=DATE-TIME:20260702T210000
TZNAME:CET
TZOFFSETFROM:+0200
TZOFFSETTO:+0100
END:STANDARD
END:VTIMEZONE
END:VCALENDAR