BEGIN:VCALENDAR
VERSION:2.0
PRODID:-//UB-Event
TZID:Europe/Zurich
X-WR-TIMEZONE:Europe/Zurich
CALSCALE:GREGORIAN
BEGIN:VEVENT
SUMMARY:#LiegendDemo für ME/CFS
UID:235090
DTSTART;TZID=Europe/Zurich;VALUE=DATE-TIME:20260510T134500
DTEND;TZID=Europe/Zurich;VALUE=DATE-TIME:20260510T154500
LAST-MODIFIED;TZID=Europe/Zurich;VALUE=DATE-TIME:20260407T061202
DTSTAMP;VALUE=DATE-TIME:20260510T134500Z
LOCATION:Evangelische Akademie, Römerberg 9, 60311 Frankfurt am Main
URL://www.xn--untergrund-blttle-2qb.ch/events/235090/liegenddemo-fuer-me-cfs-evangelische-akademie-frankfurt-am-main.html
END:VEVENT
BEGIN:VTIMEZONE
TZID:Europe/Zurich
X-LIC-LOCATION:Europe/Zurich
BEGIN:STANDARD
DTSTART;VALUE=DATE-TIME:20260510T134500
TZNAME:CET
TZOFFSETFROM:+0200
TZOFFSETTO:+0100
END:STANDARD
BEGIN:DAYLIGHT
DTSTART;VALUE=DATE-TIME:20260510T134500
TZNAME:CEST
TZOFFSETFROM:+0100
TZOFFSETTO:+0200
END:DAYLIGHT
BEGIN:STANDARD
DTSTART;VALUE=DATE-TIME:20260510T134500
TZNAME:CET
TZOFFSETFROM:+0200
TZOFFSETTO:+0100
END:STANDARD
END:VTIMEZONE
END:VCALENDAR