BEGIN:VCALENDAR
VERSION:2.0
PRODID:-//UB-Event
TZID:Europe/Zurich
X-WR-TIMEZONE:Europe/Zurich
CALSCALE:GREGORIAN
BEGIN:VEVENT
SUMMARY:Elli Berlin & Brunhilde Metal, Rock, Punk und pure Leidenschaft in einem
UID:235038
DTSTART;TZID=Europe/Zurich;VALUE=DATE-TIME:20260505T210000
DTEND;TZID=Europe/Zurich;VALUE=DATE-TIME:20260505T230000
LAST-MODIFIED;TZID=Europe/Zurich;VALUE=DATE-TIME:20260405T063834
DTSTAMP;VALUE=DATE-TIME:20260505T210000Z
LOCATION:Essig Fabrik, Siegburger Str. 110, 50679 Köln
URL://www.xn--untergrund-blttle-2qb.ch/events/235038/elli-berlin-brunhilde-metal-rock-punk-und-pure-leidenschaft-in-einem-essig-fabrik-koeln.html
END:VEVENT
BEGIN:VTIMEZONE
TZID:Europe/Zurich
X-LIC-LOCATION:Europe/Zurich
BEGIN:STANDARD
DTSTART;VALUE=DATE-TIME:20260505T210000
TZNAME:CET
TZOFFSETFROM:+0200
TZOFFSETTO:+0100
END:STANDARD
BEGIN:DAYLIGHT
DTSTART;VALUE=DATE-TIME:20260505T210000
TZNAME:CEST
TZOFFSETFROM:+0100
TZOFFSETTO:+0200
END:DAYLIGHT
BEGIN:STANDARD
DTSTART;VALUE=DATE-TIME:20260505T210000
TZNAME:CET
TZOFFSETFROM:+0200
TZOFFSETTO:+0100
END:STANDARD
END:VTIMEZONE
END:VCALENDAR