BEGIN:VCALENDAR
VERSION:2.0
PRODID:-//UB-Event
TZID:Europe/Zurich
X-WR-TIMEZONE:Europe/Zurich
CALSCALE:GREGORIAN
BEGIN:VEVENT
SUMMARY:SpeedFolkUnplugged Fiddler's Green Acoustic Pub Crawl 2026 // & special guest
UID:235009
DTSTART;TZID=Europe/Zurich;VALUE=DATE-TIME:20260501T210000
DTEND;TZID=Europe/Zurich;VALUE=DATE-TIME:20260501T230000
LAST-MODIFIED;TZID=Europe/Zurich;VALUE=DATE-TIME:20260405T063831
DTSTAMP;VALUE=DATE-TIME:20260501T210000Z
LOCATION:Sudhaus, Hechinger Str. 203, 72072 Tübingen
URL://www.xn--untergrund-blttle-2qb.ch/events/235009/speedfolkunplugged-fiddler-s-green-acoustic-pub-crawl-2026-special-guest-sudhaus-tuebingen.html
END:VEVENT
BEGIN:VTIMEZONE
TZID:Europe/Zurich
X-LIC-LOCATION:Europe/Zurich
BEGIN:STANDARD
DTSTART;VALUE=DATE-TIME:20260501T210000
TZNAME:CET
TZOFFSETFROM:+0200
TZOFFSETTO:+0100
END:STANDARD
BEGIN:DAYLIGHT
DTSTART;VALUE=DATE-TIME:20260501T210000
TZNAME:CEST
TZOFFSETFROM:+0100
TZOFFSETTO:+0200
END:DAYLIGHT
BEGIN:STANDARD
DTSTART;VALUE=DATE-TIME:20260501T210000
TZNAME:CET
TZOFFSETFROM:+0200
TZOFFSETTO:+0100
END:STANDARD
END:VTIMEZONE
END:VCALENDAR