BEGIN:VCALENDAR
VERSION:2.0
PRODID:-//UB-Event
TZID:Europe/Zurich
X-WR-TIMEZONE:Europe/Zurich
CALSCALE:GREGORIAN
BEGIN:VEVENT
SUMMARY:Fuzz Tone‑laden Southern-Gothic Rock & Roll Blues The Cold Stares (US)
UID:234945
DTSTART;TZID=Europe/Zurich;VALUE=DATE-TIME:20260504T210000
DTEND;TZID=Europe/Zurich;VALUE=DATE-TIME:20260504T230000
LAST-MODIFIED;TZID=Europe/Zurich;VALUE=DATE-TIME:20260404T063834
DTSTAMP;VALUE=DATE-TIME:20260504T210000Z
LOCATION:Rockhouse, Schallmooser Hauptstraße 46, 5020 Salzburg
URL://www.xn--untergrund-blttle-2qb.ch/events/234945/fuzz-tone-laden-southern-gothic-rock-roll-blues-the-cold-stares-us-rockhouse-salzburg.html
END:VEVENT
BEGIN:VTIMEZONE
TZID:Europe/Zurich
X-LIC-LOCATION:Europe/Zurich
BEGIN:STANDARD
DTSTART;VALUE=DATE-TIME:20260504T210000
TZNAME:CET
TZOFFSETFROM:+0200
TZOFFSETTO:+0100
END:STANDARD
BEGIN:DAYLIGHT
DTSTART;VALUE=DATE-TIME:20260504T210000
TZNAME:CEST
TZOFFSETFROM:+0100
TZOFFSETTO:+0200
END:DAYLIGHT
BEGIN:STANDARD
DTSTART;VALUE=DATE-TIME:20260504T210000
TZNAME:CET
TZOFFSETFROM:+0200
TZOFFSETTO:+0100
END:STANDARD
END:VTIMEZONE
END:VCALENDAR