BEGIN:VCALENDAR
VERSION:2.0
PRODID:-//UB-Event
TZID:Europe/Zurich
X-WR-TIMEZONE:Europe/Zurich
CALSCALE:GREGORIAN
BEGIN:VEVENT
SUMMARY:Amber Mark US-amerikanische Sängerin, Songwriterin und Produzentin
UID:234939
DTSTART;TZID=Europe/Zurich;VALUE=DATE-TIME:20260504T210000
DTEND;TZID=Europe/Zurich;VALUE=DATE-TIME:20260504T230000
LAST-MODIFIED;TZID=Europe/Zurich;VALUE=DATE-TIME:20260404T063834
DTSTAMP;VALUE=DATE-TIME:20260504T210000Z
LOCATION:Hole 44, Hermannstraße 146, 12051 Berlin
URL://www.xn--untergrund-blttle-2qb.ch/events/234939/amber-mark-us-amerikanische-saengerin-songwriterin-und-produzentin-hole-44-berlin.html
END:VEVENT
BEGIN:VTIMEZONE
TZID:Europe/Zurich
X-LIC-LOCATION:Europe/Zurich
BEGIN:STANDARD
DTSTART;VALUE=DATE-TIME:20260504T210000
TZNAME:CET
TZOFFSETFROM:+0200
TZOFFSETTO:+0100
END:STANDARD
BEGIN:DAYLIGHT
DTSTART;VALUE=DATE-TIME:20260504T210000
TZNAME:CEST
TZOFFSETFROM:+0100
TZOFFSETTO:+0200
END:DAYLIGHT
BEGIN:STANDARD
DTSTART;VALUE=DATE-TIME:20260504T210000
TZNAME:CET
TZOFFSETFROM:+0200
TZOFFSETTO:+0100
END:STANDARD
END:VTIMEZONE
END:VCALENDAR