BEGIN:VCALENDAR
VERSION:2.0
PRODID:-//UB-Event
TZID:Europe/Zurich
X-WR-TIMEZONE:Europe/Zurich
CALSCALE:GREGORIAN
BEGIN:VEVENT
SUMMARY:Tape Head & NONI – nicht ins leben verlieben tour 2026
UID:234937
DTSTART;TZID=Europe/Zurich;VALUE=DATE-TIME:20260504T210000
DTEND;TZID=Europe/Zurich;VALUE=DATE-TIME:20260504T230000
LAST-MODIFIED;TZID=Europe/Zurich;VALUE=DATE-TIME:20260404T063834
DTSTAMP;VALUE=DATE-TIME:20260504T210000Z
LOCATION:WERK X-Petersplatz, Petersplatz, 1010 Wien
URL://www.xn--untergrund-blttle-2qb.ch/events/234937/tape-head-noni-nicht-ins-leben-verlieben-tour-2026-werk-x-petersplatz-wien.html
END:VEVENT
BEGIN:VTIMEZONE
TZID:Europe/Zurich
X-LIC-LOCATION:Europe/Zurich
BEGIN:STANDARD
DTSTART;VALUE=DATE-TIME:20260504T210000
TZNAME:CET
TZOFFSETFROM:+0200
TZOFFSETTO:+0100
END:STANDARD
BEGIN:DAYLIGHT
DTSTART;VALUE=DATE-TIME:20260504T210000
TZNAME:CEST
TZOFFSETFROM:+0100
TZOFFSETTO:+0200
END:DAYLIGHT
BEGIN:STANDARD
DTSTART;VALUE=DATE-TIME:20260504T210000
TZNAME:CET
TZOFFSETFROM:+0200
TZOFFSETTO:+0100
END:STANDARD
END:VTIMEZONE
END:VCALENDAR