BEGIN:VCALENDAR
VERSION:2.0
PRODID:-//UB-Event
TZID:Europe/Zurich
X-WR-TIMEZONE:Europe/Zurich
CALSCALE:GREGORIAN
BEGIN:VEVENT
SUMMARY:Nils Wülker Quartet ZUVERSICHT -  - mit Omer Klein / Linda May Han Oh
UID:234920
DTSTART;TZID=Europe/Zurich;VALUE=DATE-TIME:20260427T210000
DTEND;TZID=Europe/Zurich;VALUE=DATE-TIME:20260427T230000
LAST-MODIFIED;TZID=Europe/Zurich;VALUE=DATE-TIME:20260404T063828
DTSTAMP;VALUE=DATE-TIME:20260427T210000Z
LOCATION:Gloria, Apostelnstraße 11, 50667 Köln
URL://www.xn--untergrund-blttle-2qb.ch/events/234920/nils-wuelker-quartet-zuversicht-mit-omer-klein-linda-may-han-oh-gloria-koeln.html
END:VEVENT
BEGIN:VTIMEZONE
TZID:Europe/Zurich
X-LIC-LOCATION:Europe/Zurich
BEGIN:STANDARD
DTSTART;VALUE=DATE-TIME:20260427T210000
TZNAME:CET
TZOFFSETFROM:+0200
TZOFFSETTO:+0100
END:STANDARD
BEGIN:DAYLIGHT
DTSTART;VALUE=DATE-TIME:20260427T210000
TZNAME:CEST
TZOFFSETFROM:+0100
TZOFFSETTO:+0200
END:DAYLIGHT
BEGIN:STANDARD
DTSTART;VALUE=DATE-TIME:20260427T210000
TZNAME:CET
TZOFFSETFROM:+0200
TZOFFSETTO:+0100
END:STANDARD
END:VTIMEZONE
END:VCALENDAR