BEGIN:VCALENDAR
VERSION:2.0
PRODID:-//UB-Event
TZID:Europe/Zurich
X-WR-TIMEZONE:Europe/Zurich
CALSCALE:GREGORIAN
BEGIN:VEVENT
SUMMARY:SHE PAST AWAY – „Inziva“ TOUR 2026 Special Guests: Touch By Touch
UID:234890
DTSTART;TZID=Europe/Zurich;VALUE=DATE-TIME:20260503T210000
DTEND;TZID=Europe/Zurich;VALUE=DATE-TIME:20260503T230000
LAST-MODIFIED;TZID=Europe/Zurich;VALUE=DATE-TIME:20260403T063833
DTSTAMP;VALUE=DATE-TIME:20260503T210000Z
LOCATION:PPC, Neubaugasse 6, 8020 Graz
URL://www.xn--untergrund-blttle-2qb.ch/events/234890/she-past-away-inziva-tour-2026-special-guests-touch-by-touch-ppc-graz.html
END:VEVENT
BEGIN:VTIMEZONE
TZID:Europe/Zurich
X-LIC-LOCATION:Europe/Zurich
BEGIN:STANDARD
DTSTART;VALUE=DATE-TIME:20260503T210000
TZNAME:CET
TZOFFSETFROM:+0200
TZOFFSETTO:+0100
END:STANDARD
BEGIN:DAYLIGHT
DTSTART;VALUE=DATE-TIME:20260503T210000
TZNAME:CEST
TZOFFSETFROM:+0100
TZOFFSETTO:+0200
END:DAYLIGHT
BEGIN:STANDARD
DTSTART;VALUE=DATE-TIME:20260503T210000
TZNAME:CET
TZOFFSETFROM:+0200
TZOFFSETTO:+0100
END:STANDARD
END:VTIMEZONE
END:VCALENDAR