BEGIN:VCALENDAR
VERSION:2.0
PRODID:-//UB-Event
TZID:Europe/Zurich
X-WR-TIMEZONE:Europe/Zurich
CALSCALE:GREGORIAN
BEGIN:VEVENT
SUMMARY:FACE Eerst meme-trap en chaos, nu eerlijke rap met scherpe lines en gevoel hiphop
UID:234865
DTSTART;TZID=Europe/Zurich;VALUE=DATE-TIME:20260503T210000
DTEND;TZID=Europe/Zurich;VALUE=DATE-TIME:20260503T230000
LAST-MODIFIED;TZID=Europe/Zurich;VALUE=DATE-TIME:20260403T063833
DTSTAMP;VALUE=DATE-TIME:20260503T210000Z
LOCATION:Patronaat, Zijlsingel 2, 2013 DN Haarlem
URL://www.xn--untergrund-blttle-2qb.ch/events/234865/face-eerst-meme-trap-en-chaos-nu-eerlijke-rap-met-scherpe-lines-en-gevoel-hiphop-patronaat-haarlem.html
END:VEVENT
BEGIN:VTIMEZONE
TZID:Europe/Zurich
X-LIC-LOCATION:Europe/Zurich
BEGIN:STANDARD
DTSTART;VALUE=DATE-TIME:20260503T210000
TZNAME:CET
TZOFFSETFROM:+0200
TZOFFSETTO:+0100
END:STANDARD
BEGIN:DAYLIGHT
DTSTART;VALUE=DATE-TIME:20260503T210000
TZNAME:CEST
TZOFFSETFROM:+0100
TZOFFSETTO:+0200
END:DAYLIGHT
BEGIN:STANDARD
DTSTART;VALUE=DATE-TIME:20260503T210000
TZNAME:CET
TZOFFSETFROM:+0200
TZOFFSETTO:+0100
END:STANDARD
END:VTIMEZONE
END:VCALENDAR